BEGIN:VCALENDAR
CALSCALE:GREGORIAN
X-WR-TIMEZONE;VALUE=TEXT:Pacific Standard Time
METHOD:PUBLISH
PRODID:-//Flo Inc.//FloSoft//EN
BEGIN:VEVENT
DTSTART;TZID=Pacific Standard Time:20251022T223000Z
DTSTAMP:20251022T223000Z
DTEND;TZID=Pacific Standard Time:20251023T000000Z
SUMMARY;ENCODING=QUOTED-PRINTABLE:Book Talk - Female Religiosity in Central Asia: Sufi Leaders in the Persianate World
DESCRIPTION;ENCODING=QUOTED-PRINTABLE:Through revealing the fascinating story of the Sufi master Aghā-yi Buzurg and her path to becoming the 'Great Lady' in sixteenth-century Bukhara, Aziza Shanazarova invites readers into the little-known world of female religious authority in early modern Islamic Central Asia, revealing a far more multifaceted gender history than previously supposed. Pointing towards new ways of mapping female religious authority onto the landscapes of early modern Muslim narratives, this book challenges narratives of the relationship between gender and age in Islamic discourse of the period.
LOCATION;ENCODING=QUOTED-PRINTABLE:Bunche Hall, Rm 6275
UID:1727420251022T223000ZBook Talk - Female Religiosity in Central Asia: Sufi Leaders in the Persianate World
PRIORITY:3
BEGIN:VALARM
TRIGGER;VALUE=DURATION:-P1D
ACTION:DISPLAY
DESCRIPTION:Event reminder
END:VALARM
END:VEVENT
END:VCALENDAR
